Workbook
Name 愛知県: 【参考】数式用!$X$993:$X$1046
Name 愛媛県: 【参考】数式用!$X$1422:$X$1441
Name 茨城県: 【参考】数式用!$X$415:$X$458
Name 岡山県: 【参考】数式用!$X$1312:$X$1338
Name 沖縄県: 【参考】数式用!$X$1709:$X$1749
Name 介護医療院_組合せ: 【参考】数式用!$G$39:$I$39
Name 介護予防ケアマネジメント_組合せ: 【参考】数式用!$G$48:$I$48
Name 介護予防支援_組合せ: 【参考】数式用!$G$54:$I$54
Name 介護予防小規模多機能型居宅介護_組合せ: 【参考】数式用!$G$22:$I$22
Name 介護予防小規模多機能型居宅介護_短期利用型_組合せ: 【参考】数式用!$G$23:$I$23
Name 介護予防短期入所生活介護_組合せ: 【参考】数式用!$G$33:$I$33
Name 介護予防短期入所療養介護_医療院_組合せ: 【参考】数式用!$G$41:$I$41
Name 介護予防短期入所療養介護_病院等_組合せ: 【参考】数式用!$G$38:$I$38
Name 介護予防短期入所療養介護_老健_組合せ: 【参考】数式用!$G$36:$I$36
Name 介護予防通所リハビリテーション_組合せ: 【参考】数式用!$G$12:$I$12
Name 介護予防特定施設入居者生活介護_組合せ: 【参考】数式用!$G$15:$I$15
Name 介護予防認知症対応型共同生活介護_組合せ: 【参考】数式用!$G$28:$I$28
Name 介護予防認知症対応型共同生活介護_短期利用型_組合せ: 【参考】数式用!$G$29:$I$29
Name 介護予防認知症対応型通所介護_組合せ: 【参考】数式用!$G$19:$I$19
Name 介護予防訪問リハビリテーション_組合せ: 【参考】数式用!$G$52:$I$52
Name 介護予防訪問看護_組合せ: 【参考】数式用!$G$50:$I$50
Name 介護予防訪問入浴介護_組合せ: 【参考】数式用!$G$8:$I$8
Name 介護老人福祉施設_組合せ: 【参考】数式用!$G$30:$I$30
Name 介護老人保健施設_組合せ: 【参考】数式用!$G$34:$I$34
Name 看護小規模多機能型居宅介護_組合せ: 【参考】数式用!$G$24:$I$24
Name 看護小規模多機能型居宅介護_短期利用型_組合せ: 【参考】数式用!$G$25:$I$25
Name 岩手県: 【参考】数式用!$X$228:$X$260
Name 岐阜県: 【参考】数式用!$X$916:$X$957
Name 宮崎県: 【参考】数式用!$X$1640:$X$1665
Name 宮城県: 【参考】数式用!$X$261:$X$295
Name 居宅介護支援_組合せ: 【参考】数式用!$G$53:$I$53
Name 京都府: 【参考】数式用!$X$1095:$X$1120
Name 熊本県: 【参考】数式用!$X$1577:$X$1621
Name 群馬県: 【参考】数式用!$X$484:$X$518
Name 広島県: 【参考】数式用!$X$1339:$X$1361
Name 香川県: 【参考】数式用!$X$1405:$X$1421
Name 高知県: 【参考】数式用!$X$1442:$X$1475
Name 佐賀県: 【参考】数式用!$X$1536:$X$1555
Name 埼玉県: 【参考】数式用!$X$519:$X$581
Name 三重県: 【参考】数式用!$X$1047:$X$1075
Name 山形県: 【参考】数式用!$X$321:$X$355
Name 山口県: 【参考】数式用!$X$1362:$X$1380
Name 山梨県: 【参考】数式用!$X$812:$X$838
Name 滋賀県: 【参考】数式用!$X$1076:$X$1094
Name 鹿児島県: 【参考】数式用!$X$1666:$X$1708
Name 秋田県: 【参考】数式用!$X$296:$X$320
Name 小規模多機能型居宅介護_組合せ: 【参考】数式用!$G$20:$I$20
Name 小規模多機能型居宅介護_短期利用型_組合せ: 【参考】数式用!$G$21:$I$21
Name 新潟県: 【参考】数式用!$X$731:$X$760
Name 神奈川県: 【参考】数式用!$X$698:$X$730
Name 青森県: 【参考】数式用!$X$188:$X$227
Name 静岡県: 【参考】数式用!$X$958:$X$992
Name 石川県: 【参考】数式用!$X$776:$X$794
Name 千葉県: 【参考】数式用!$X$582:$X$635
Name 大阪府: 【参考】数式用!$X$1121:$X$1163
Name 大分県: 【参考】数式用!$X$1622:$X$1639
Name 短期入所生活介護_組合せ: 【参考】数式用!$G$32:$I$32
Name 短期入所療養介護__医療院_組合せ: 【参考】数式用!$G$40:$I$40
Name 短期入所療養介護_病院等_組合せ: 【参考】数式用!$G$37:$I$37
Name 短期入所療養介護_老健_組合せ: 【参考】数式用!$G$35:$I$35

Sheet 基本情報入力シート
A1: 実績報告書（介護分野の職員の賃上げ・職場環境改善支援事業）作成用 基本情報入力シート
A3: ●はじめに本シート（基本情報入力シート）の紫色セルに入力することで、介護保険事業費補助金（介護分野の職員の賃上げ・職場環境改善支援事業）（以下「補助金」という。）の対象事業所等に関する基本的な情報が、各様式に自動的に転記されます。
A4: 【注意】本シートは様式作成用のため、本実績報告書の提出を紙で行う場合、本シートの提出は不要です。 ただし、自治体に電子媒体で提出する場合は、本シートを削除せずそのまま提出してください。
A6: ●「別紙様式3-1」を完成させるには、「基本情報入力シート」「別紙様式3-2」から転記される情報が必要です。まずはこれらのシートを完成させてください。
A14: ●「別紙様式3－1」に記載する補助金による賃金改善等の所要額について、具体的な算出方法は問いませんが、各職員に対し、補助金を原資として行った賃金改善額等を積み上げる（足し上げる）などの適切な方法により算出してください。また、「賃金改善の所要額」を記入する欄には、基本給、手当、賞与等（退職手当を除く。）を含む金額を記入してください。職場環境改善経費への充当額についても、具体的な算出方法は問いませんが、研修費、介護助手等の募集経費を積み上げる（足し上げる）などの適切な方法により算出してください。
A16: １ 提出先に関する情報
B17: 介護分野の職員の賃上げ・職場環境改善支援事業の届出に係る提出先（都道府県）を選択してください。 実績報告書は都道府県単位で作成し、提出してください。
B18: 提出先
A20: ２ 基本情報
B21: 下表に必要事項を入力してください。記入内容が別紙様式に反映されます。
B22: 法人名 | C22: フリガナ
C23: 名称 | AA23: 〒結合
B24: 法人住所 | C24: 〒 | P24: - | AA24: =CONCATENATE(M24,N24,O24,P24,Q24,R24,S24,T24) -> -
C25: 住所１（番地・住居番号まで）
C26: 住所２（建物名等）
B27: 法人代表者 | C27: 職名
C28: 氏名
B29: 法人番号
B30: 書類作成 担当者 | C30: フリガナ
C31: 氏名
B32: 連絡先 | C32: 電話番号
C33: E-mail
A35: ３ 補助金を申請した事業所に関する情報（１の提出先に提出するべき事業所のみを記載）
B36: 下表に必要事項を入力してください。記入内容が別紙様式3-2（補助金）に反映されます。
B38: 通し番号 | C38: 介護保険事業所番号 | M38: 指定権者名 | R38: 事業所の所在地 | X38: 事業所名 | Y38: サービス名 | Z38: サービス コード
R39: 都道府県 | W39: 市区町村
B40: 1 | Z40: =IFERROR(VLOOKUP(Y40, 【参考】数式用!$A$4:$B$54, 2, FALSE), "")
B41: =B40+1 -> 2 | Z41: =IFERROR(VLOOKUP(Y41, 【参考】数式用!$A$4:$B$54, 2, FALSE), "")
B42: =B41+1 -> 3 | Z42: =IFERROR(VLOOKUP(Y42, 【参考】数式用!$A$4:$B$54, 2, FALSE), "")
B43: =B42+1 -> 4 | Z43: =IFERROR(VLOOKUP(Y43, 【参考】数式用!$A$4:$B$54, 2, FALSE), "")
B44: =B43+1 -> 5 | Z44: =IFERROR(VLOOKUP(Y44, 【参考】数式用!$A$4:$B$54, 2, FALSE), "")
B45: =B44+1 -> 6 | Z45: =IFERROR(VLOOKUP(Y45, 【参考】数式用!$A$4:$B$54, 2, FALSE), "")
B46: =B45+1 -> 7 | Z46: =IFERROR(VLOOKUP(Y46, 【参考】数式用!$A$4:$B$54, 2, FALSE), "")
B47: =B46+1 -> 8 | Z47: =IFERROR(VLOOKUP(Y47, 【参考】数式用!$A$4:$B$54, 2, FALSE), "")
B48: =B47+1 -> 9 | Z48: =IFERROR(VLOOKUP(Y48, 【参考】数式用!$A$4:$B$54, 2, FALSE), "")
B49: =B48+1 -> 10 | Z49: =IFERROR(VLOOKUP(Y49, 【参考】数式用!$A$4:$B$54, 2, FALSE), "")
B50: =B49+1 -> 11 | Z50: =IFERROR(VLOOKUP(Y50, 【参考】数式用!$A$4:$B$54, 2, FALSE), "")
B51: =B50+1 -> 12 | Z51: =IFERROR(VLOOKUP(Y51, 【参考】数式用!$A$4:$B$54, 2, FALSE), "")
B52: =B51+1 -> 13 | Z52: =IFERROR(VLOOKUP(Y52, 【参考】数式用!$A$4:$B$54, 2, FALSE), "")
... B139: =B138+1 -> 100 | Z139: =IFERROR(VLOOKUP(Y139, 【参考】数式用!$A$4:$B$54, 2, FALSE), "")

Sheet 別紙様式3-1（補助金　総括表）
A1: 別紙様式３－１（補助金） | Z1: 提出先 | AC1: =IF(基本情報入力シート!C18="", "", 基本情報入力シート!C18)
A3: 介護分野の職員の賃上げ・職場環境改善支援事業 実績報告書
A5: １ 基本情報
A6: フリガナ | G6: =IF(基本情報入力シート!M22="","",基本情報入力シート!M22)
A7: 法人名 | G7: =IF(基本情報入力シート!M23="","",基本情報入力シート!M23)
A8: 法人所在地 | G8: 〒 | H8: =IF(基本情報入力シート!AA24="－","",基本情報入力シート!AA24) -> -
G9: =IF(基本情報入力シート!M25="","",基本情報入力シート!M25)
G10: =IF(基本情報入力シート!M26="","",基本情報入力シート!M26)
A11: フリガナ | G11: =IF(基本情報入力シート!M30="","",基本情報入力シート!M30)
A12: 書類作成担当者 | G12: =IF(基本情報入力シート!M31="","",基本情報入力シート!M31)
A13: 連絡先 | G13: 電話番号 | K13: =IF(基本情報入力シート!M32="","",基本情報入力シート!M32) | U13: E-mail | Y13: =IF(基本情報入力シート!M33="","",基本情報入力シート!M33)
A15: ２ 実績報告について
A16: A 補助金の総額（BとCの合計がA以上となること） | Z16: ='別紙様式3-2（補助金 個票）'!F5 -> 0 | AG16: 円 | AI16: =IF(G7="", "", IF(SUM(Z18:AF19)>=Z16, "○", "×")) | AK16: ！この欄が○でない場合、賃金改善と職場環境改善の所要額の和が補助金総額以上になっていません。
B17: 賃金改善経費分（①及び②。Bが①と②の合計以上となること） | Z17: ='別紙様式3-2（補助金 個票）'!F6 -> 0 | AG17: 円 | AI17: =IF(G8="", "", IF(Z18>=Z17, "○", "×")) -> ○
A18: B 賃金改善の所要額（①及び②並びに③（賃金改善に充てた額に限る。）） | AG18: 円
A19: C 職場環境改善の所要額（（ア）～（ウ）の合計） （③のうち、職場環境改善に充てた額） | Z19: =SUM(Z20:AF22) -> 0 | AG19: 円
L20: （ア）研修費 | AG20: 円
L21: （イ）介護助手等の募集経費 | AG21: 円
L22: （ウ）その他の金額 | AG22: 円
A23: D（ウ）「その他の金額」に記載した場合の使途
A24: 対象となる要件 | AI24: =IF(G7="", "", IF(AND(Z22>0, A25=""), "×", "○"))
A25: 専門家の派遣費用 | AK25: ！③（ウ）「その他の金額」に記載されていますが、使途分類が選択されていない又は備考欄に記載がありません。
A26: 【記入上の注意】 ・ 本様式では下記の要件を確認しており、オレンジセルが「○」でない場合、補助金の交付要件を満たしていない。 Ⅰ補助金による賃金改善及び職場環境改善の総額が補助金による収入額以上となること。 Ⅱ補助金による賃金改善の総額が補助金による賃金改善経費分以上となること。 Ⅲ職場環境改善を、研修費、介護助手等の募集経費以外に充てた場合、その使途を記載すること。 ・ ②「賃金改善の所要額」には、補助金により賃金改善を行った場合の法定福利費等の事業主負担の増加分を含めることができる。 ・ 「その他の金額」には、補助金の要件である「現場の課題の見える化」、「業務内容の明確化と役割分担」、又は「業務改善活動の体制構築」に関する 取組を実施するための費用のうち、介護テクノロジー等の機器購入費用でないもの（専門家の派遣費用、会議費等）のみ充当することができる。 ・ 「その他の金額」に記載した場合において、対象となる要件が複数ある場合は、プルダウンでは主な対象となる要件を選択し、 その他の要件については、備考欄に記載すること。 ・ 本補助金を、介護テクノロジー等の機器購入費用に充てることはできないため、 そのような使用が都道府県によって確認された場合、チェックリストに○がついていても、要件を満たしていないと審査される可能性がある。
A28: ３ 要件について
B29: ①申請時に処遇改善加算の算定又は処遇改善加算に準ずる要件を満たすことを誓約した場合、本実績報告書の提出までに対応しました。 | AI29: =IF(Z16=0,"",IF(A29="","×","○"))
B30: ②申請時にケアプランデータ連携システムへの加入又は生産性向上推進体制加算の算定を誓約した場合、本実績報告書の提出までに対応しました。 | AI30: =IF(Z16=0,"",IF(A30="","×","○"))
B31: ③申請時に職場環境改善の取組を行うことを誓約した場合、本実績報告書の提出までに対応しました。 | AI31: =IF(Z16=0,"",IF(A31="","×","○"))
B32: 申請時、令和８年４月以降の本補助金の支給を希望した又は令和８年３月末までの本補助金の支給を希望し、令和８年３月末までに支給を受けた場合には、令和８年３月末までに賃金改善及び職場環境改善を実施しました。 | AI32: =IF(Z16=0,"",IF(A32="","×","○"))
B33: 補助金を賃金改善に使用した場合、補助金以外の部分で賃金水準を引き下げていません。 | AI33: =IF(Z16=0,"",IF(A33="","×","○"))
A34: 【記入上の注意】 ・ やむを得ない事情により補助金以外の部分で賃金水準を引き下げた場合、下記備考欄に経緯の概要を記載すること。 （例：事業規模の縮小に伴う職員数・賃金総額の減少等）
A35: 備考欄
A38: ４ 職場環境改善経費の消費税仕入控除税額について
B39: 職場環境改善経費に消費税額を含めていない、又は消費税仕入控除税額を除外しています。 職場環境改善経費に消費税額を含めており、かつ控除税額が報告書作成時に未確定の場合は、確定後に都道府県指定の様式で報告することを理解しました。 | AI39: =IF(Z16=0,"",IF(A39="","×","○"))
A41: ５ 記載内容に虚偽がないことの誓約 | AI41: =IF(G7="", "", IF(AND(B43="✓",AND(G45<>"",J45<>"",Q45<>"",S46<>"",Z46<>"")),"○","×")) | AK41: ！この欄が×の場合、チェックが入っていない項目か、空欄の項目があります。
D43: 実績報告書の記載内容に虚偽がないこと及び記載内容を証明する資料を適切に保管していることを誓約します。
B45: 令和 | D45: 8 | F45: 年 | I45: 月 | L45: 日 | N45: 法人名 | Q45: =IF(基本情報入力シート!M23="","", 基本情報入力シート!M23)
N46: 代表者 | Q46: 職名 | S46: =IF(基本情報入力シート!M27="", "", 基本情報入力シート!M27) | X46: 氏名 | Z46: =IF(基本情報入力シート!M28="", "", 基本情報入力シート!M28)
A48: 【記入上の注意】 ・ 各証明資料は、指定権者からの求めがあった場合には、速やかに提出すること。 ・ 本表への虚偽記載の他、補助金の請求に関して不正があった場合は、補助金を返還することとなる場合がある。
A50: （確認用）提出前のチェックリスト
A51: 以下の項目に「×」がないか、提出前に確認すること。「×」がある場合、当該項目の記載を修正すること。
...

Sheet 別紙様式3-2（補助金　個票）
A1: 別紙様式３－２（補助金） | D1: 介護分野の職員の賃上げ・職場環境改善支援事業実績報告書（施設・事業所別個表） | I1: 提出先 | J1: =IF(基本情報入力シート!C18="", "", 基本情報入力シート!C18)
A3: 法人名 | C3: =IF(基本情報入力シート!M23="","",基本情報入力シート!M23) | H3: 【記入上の注意】 ・本表に記載する事業所は、計画書の基本情報入力シートで当補助金を申請すると記載した事業所と一致しなければならない。 ・事業所の数が多く、１枚に記載しきれない場合は、適宜、行を追加すること。
A5: 提出先の都道府県における補助金額の合計（①、②及び③）［円］ | F5: =IFERROR(SUM(H:I),"") -> 0
A6: うち、賃金改善経費分（①及び②）の合計［円］ | F6: =IFERROR(SUM(K:K),"") -> 0
A7: （補助金の概要）
A8: ①介護従事者に対する 幅広い賃上げ支援 | E8: ア）処遇改善加算の対象サービス →処遇改善加算取得（又は見込み）事業所が対象 イ）対象外サービス（訪問看護、訪問リハ、居宅介護支援等） →処遇改善加算に準ずる要件を満たす（又は見込み）事業所やケアプランデータ連携システムに加入 （又は見込み）の事業所等が対象
A9: ②生産性向上や協働化に取り組む 事業所の介護職員に対する 上乗せの賃上げ支援 | E9: 処遇改善加算の取得に加え、以下の要件を満たす事業所。 ア）訪問、通所サービス等 → ケアプランデータ連携システムに加入（又は見込み）等。 イ）施設、居住サービス、多機能サービス、短期入所サービス等 → 生産性向上加算Ⅰ又はⅡを取得（又は見込み）等。
A10: ③介護職員について、職場環境改善に 取り組む事業所を支援 （介護職員等の賃金改善に充当可能） | E10: 処遇改善加算を取得の上、職場環境等要件の更なる充足等に向けて、職場環境改善を計画し実施する事業所（要件は、令和６年度補正予算の「介護人材 確保・職場環境改善等事業」と同様）。
B12: 介護保険事業所番号 | C12: 指定権者名 | D12: 事業所の所在地 | F12: 事業所名 | G12: サービス名 | H12: 補助金の総額（①、②及び③）[円] | J12: 組合せ | K12: ①＋② （賃金改善経費分） | L12: ③ （賃金改善分又は 職場環境改善分）
D14: 都道府県 | E14: 市区町村
A15: 1 | B15: =IF(基本情報入力シート!C40="","",基本情報入力シート!C40) | C15: =IF(基本情報入力シート!M40="","",基本情報入力シート!M40) | D15: =IF(基本情報入力シート!R40="","",基本情報入力シート!R40) | E15: =IF(基本情報入力シート!W40="","",基本情報入力シート!W40) | F15: =IF(基本情報入力シート!X40="","",基本情報入力シート!X40) | G15: =IF(基本情報入力シート!Y40="","",基本情報入力シート!Y40) | K15: =IF(H15="","",H15*VLOOKUP(G15,【参考】数式用!$A$4:$R$54,MATCH(P15,【参考】数式用!$M$3:$R$3,0)+12,FALSE)) | L15: =IF(H15="","",H15*VLOOKUP(G15,【参考】数式用!$A$4:$R$54,MATCH(Q15,【参考】数式用!$M$3:$R$3,0)+12,FALSE)) | O15: =VLOOKUP(G15,【参考】数式用!$A$4:$F$54,6,FALSE) -> #N/A | P15: ="（①＋②）/（"&J15&"）" -> （①＋②）/（） | Q15: ="③/（"&J15&"）" -> ③/（）
A16: =A15+1 -> 2 | B16: =IF(基本情報入力シート!C41="","",基本情報入力シート!C41) | C16: =IF(基本情報入力シート!M41="","",基本情報入力シート!M41) | D16: =IF(基本情報入力シート!R41="","",基本情報入力シート!R41) | E16: =IF(基本情報入力シート!W41="","",基本情報入力シート!W41) | F16: =IF(基本情報入力シート!X41="","",基本情報入力シート!X41) | G16: =IF(基本情報入力シート!Y41="","",基本情報入力シート!Y41) | K16: =IF(H16="","",H16*VLOOKUP(G16,【参考】数式用!$A$4:$R$54,MATCH(P16,【参考】数式用!$M$3:$R$3,0)+12,FALSE)) | L16: =IF(H16="","",H16*VLOOKUP(G16,【参考】数式用!$A$4:$R$54,MATCH(Q16,【参考】数式用!$M$3:$R$3,0)+12,FALSE)) | O16: =VLOOKUP(G16,【参考】数式用!$A$4:$F$54,6,FALSE) -> #N/A | P16: ="（①＋②）/（"&J16&"）" -> （①＋②）/（） | Q16: ="③/（"&J16&"）" -> ③/（）
A17: =A16+1 -> 3 | B17: =IF(基本情報入力シート!C42="","",基本情報入力シート!C42) | C17: =IF(基本情報入力シート!M42="","",基本情報入力シート!M42) | D17: =IF(基本情報入力シート!R42="","",基本情報入力シート!R42) | E17: =IF(基本情報入力シート!W42="","",基本情報入力シート!W42) | F17: =IF(基本情報入力シート!X42="","",基本情報入力シート!X42) | G17: =IF(基本情報入力シート!Y42="","",基本情報入力シート!Y42) | K17: =IF(H17="","",H17*VLOOKUP(G17,【参考】数式用!$A$4:$R$54,MATCH(P17,【参考】数式用!$M$3:$R$3,0)+12,FALSE)) | L17: =IF(H17="","",H17*VLOOKUP(G17,【参考】数式用!$A$4:$R$54,MATCH(Q17,【参考】数式用!$M$3:$R$3,0)+12,FALSE)) | O17: =VLOOKUP(G17,【参考】数式用!$A$4:$F$54,6,FALSE) -> #N/A | P17: ="（①＋②）/（"&J17&"）" -> （①＋②）/（） | Q17: ="③/（"&J17&"）" -> ③/（）
A18: =A17+1 -> 4 | B18: =IF(基本情報入力シート!C43="","",基本情報入力シート!C43) | C18: =IF(基本情報入力シート!M43="","",基本情報入力シート!M43) | D18: =IF(基本情報入力シート!R43="","",基本情報入力シート!R43) | E18: =IF(基本情報入力シート!W43="","",基本情報入力シート!W43) | F18: =IF(基本情報入力シート!X43="","",基本情報入力シート!X43) | G18: =IF(基本情報入力シート!Y43="","",基本情報入力シート!Y43) | K18: =IF(H18="","",H18*VLOOKUP(G18,【参考】数式用!$A$4:$R$54,MATCH(P18,【参考】数式用!$M$3:$R$3,0)+12,FALSE)) | L18: =IF(H18="","",H18*VLOOKUP(G18,【参考】数式用!$A$4:$R$54,MATCH(Q18,【参考】数式用!$M$3:$R$3,0)+12,FALSE)) | O18: =VLOOKUP(G18,【参考】数式用!$A$4:$F$54,6,FALSE) -> #N/A | P18: ="（①＋②）/（"&J18&"）" -> （①＋②）/（） | Q18: ="③/（"&J18&"）" -> ③/（）
A19: =A18+1 -> 5 | B19: =IF(基本情報入力シート!C44="","",基本情報入力シート!C44) | C19: =IF(基本情報入力シート!M44="","",基本情報入力シート!M44) | D19: =IF(基本情報入力シート!R44="","",基本情報入力シート!R44) | E19: =IF(基本情報入力シート!W44="","",基本情報入力シート!W44) | F19: =IF(基本情報入力シート!X44="","",基本情報入力シート!X44) | G19: =IF(基本情報入力シート!Y44="","",基本情報入力シート!Y44) | K19: =IF(H19="","",H19*VLOOKUP(G19,【参考】数式用!$A$4:$R$54,MATCH(P19,【参考】数式用!$M$3:$R$3,0)+12,FALSE)) | L19: =IF(H19="","",H19*VLOOKUP(G19,【参考】数式用!$A$4:$R$54,MATCH(Q19,【参考】数式用!$M$3:$R$3,0)+12,FALSE)) | O19: =VLOOKUP(G19,【参考】数式用!$A$4:$F$54,6,FALSE) -> #N/A | P19: ="（①＋②）/（"&J19&"）" -> （①＋②）/（） | Q19: ="③/（"&J19&"）" -> ③/（）
A20: =A19+1 -> 6 | B20: =IF(基本情報入力シート!C45="","",基本情報入力シート!C45) | C20: =IF(基本情報入力シート!M45="","",基本情報入力シート!M45) | D20: =IF(基本情報入力シート!R45="","",基本情報入力シート!R45) | E20: =IF(基本情報入力シート!W45="","",基本情報入力シート!W45) | F20: =IF(基本情報入力シート!X45="","",基本情報入力シート!X45) | G20: =IF(基本情報入力シート!Y45="","",基本情報入力シート!Y45) | K20: =IF(H20="","",H20*VLOOKUP(G20,【参考】数式用!$A$4:$R$54,MATCH(P20,【参考】数式用!$M$3:$R$3,0)+12,FALSE)) | L20: =IF(H20="","",H20*VLOOKUP(G20,【参考】数式用!$A$4:$R$54,MATCH(Q20,【参考】数式用!$M$3:$R$3,0)+12,FALSE)) | O20: =VLOOKUP(G20,【参考】数式用!$A$4:$F$54,6,FALSE) -> #N/A | P20: ="（①＋②）/（"&J20&"）" -> （①＋②）/（） | Q20: ="③/（"&J20&"）" -> ③/（）
A21: =A20+1 -> 7 | B21: =IF(基本情報入力シート!C46="","",基本情報入力シート!C46) | C21: =IF(基本情報入力シート!M46="","",基本情報入力シート!M46) | D21: =IF(基本情報入力シート!R46="","",基本情報入力シート!R46) | E21: =IF(基本情報入力シート!W46="","",基本情報入力シート!W46) | F21: =IF(基本情報入力シート!X46="","",基本情報入力シート!X46) | G21: =IF(基本情報入力シート!Y46="","",基本情報入力シート!Y46) | K21: =IF(H21="","",H21*VLOOKUP(G21,【参考】数式用!$A$4:$R$54,MATCH(P21,【参考】数式用!$M$3:$R$3,0)+12,FALSE)) | L21: =IF(H21="","",H21*VLOOKUP(G21,【参考】数式用!$A$4:$R$54,MATCH(Q21,【参考】数式用!$M$3:$R$3,0)+12,FALSE)) | O21: =VLOOKUP(G21,【参考】数式用!$A$4:$F$54,6,FALSE) -> #N/A | P21: ="（①＋②）/（"&J21&"）" -> （①＋②）/（） | Q21: ="③/（"&J21&"）" -> ③/（）
A22: =A21+1 -> 8 | B22: =IF(基本情報入力シート!C47="","",基本情報入力シート!C47) | C22: =IF(基本情報入力シート!M47="","",基本情報入力シート!M47) | D22: =IF(基本情報入力シート!R47="","",基本情報入力シート!R47) | E22: =IF(基本情報入力シート!W47="","",基本情報入力シート!W47) | F22: =IF(基本情報入力シート!X47="","",基本情報入力シート!X47) | G22: =IF(基本情報入力シート!Y47="","",基本情報入力シート!Y47) | K22: =IF(H22="","",H22*VLOOKUP(G22,【参考】数式用!$A$4:$R$54,MATCH(P22,【参考】数式用!$M$3:$R$3,0)+12,FALSE)) | L22: =IF(H22="","",H22*VLOOKUP(G22,【参考】数式用!$A$4:$R$54,MATCH(Q22,【参考】数式用!$M$3:$R$3,0)+12,FALSE)) | O22: =VLOOKUP(G22,【参考】数式用!$A$4:$F$54,6,FALSE) -> #N/A | P22: ="（①＋②）/（"&J22&"）" -> （①＋②）/（） | Q22: ="③/（"&J22&"）" -> ③/（）
A23: =A22+1 -> 9 | B23: =IF(基本情報入力シート!C48="","",基本情報入力シート!C48) | C23: =IF(基本情報入力シート!M48="","",基本情報入力シート!M48) | D23: =IF(基本情報入力シート!R48="","",基本情報入力シート!R48) | E23: =IF(基本情報入力シート!W48="","",基本情報入力シート!W48) | F23: =IF(基本情報入力シート!X48="","",基本情報入力シート!X48) | G23: =IF(基本情報入力シート!Y48="","",基本情報入力シート!Y48) | K23: =IF(H23="","",H23*VLOOKUP(G23,【参考】数式用!$A$4:$R$54,MATCH(P23,【参考】数式用!$M$3:$R$3,0)+12,FALSE)) | L23: =IF(H23="","",H23*VLOOKUP(G23,【参考】数式用!$A$4:$R$54,MATCH(Q23,【参考】数式用!$M$3:$R$3,0)+12,FALSE)) | O23: =VLOOKUP(G23,【参考】数式用!$A$4:$F$54,6,FALSE) -> #N/A | P23: ="（①＋②）/（"&J23&"）" -> （①＋②）/（） | Q23: ="③/（"&J23&"）" -> ③/（）
A24: =A23+1 -> 10 | B24: =IF(基本情報入力シート!C49="","",基本情報入力シート!C49) | C24: =IF(基本情報入力シート!M49="","",基本情報入力シート!M49) | D24: =IF(基本情報入力シート!R49="","",基本情報入力シート!R49) | E24: =IF(基本情報入力シート!W49="","",基本情報入力シート!W49) | F24: =IF(基本情報入力シート!X49="","",基本情報入力シート!X49) | G24: =IF(基本情報入力シート!Y49="","",基本情報入力シート!Y49) | K24: =IF(H24="","",H24*VLOOKUP(G24,【参考】数式用!$A$4:$R$54,MATCH(P24,【参考】数式用!$M$3:$R$3,0)+12,FALSE)) | L24: =IF(H24="","",H24*VLOOKUP(G24,【参考】数式用!$A$4:$R$54,MATCH(Q24,【参考】数式用!$M$3:$R$3,0)+12,FALSE)) | O24: =VLOOKUP(G24,【参考】数式用!$A$4:$F$54,6,FALSE) -> #N/A | P24: ="（①＋②）/（"&J24&"）" -> （①＋②）/（） | Q24: ="③/（"&J24&"）" -> ③/（）
A25: =A24+1 -> 11 | B25: =IF(基本情報入力シート!C50="","",基本情報入力シート!C50) | C25: =IF(基本情報入力シート!M50="","",基本情報入力シート!M50) | D25: =IF(基本情報入力シート!R50="","",基本情報入力シート!R50) | E25: =IF(基本情報入力シート!W50="","",基本情報入力シート!W50) | F25: =IF(基本情報入力シート!X50="","",基本情報入力シート!X50) | G25: =IF(基本情報入力シート!Y50="","",基本情報入力シート!Y50) | K25: =IF(H25="","",H25*VLOOKUP(G25,【参考】数式用!$A$4:$R$54,MATCH(P25,【参考】数式用!$M$3:$R$3,0)+12,FALSE)) | L25: =IF(H25="","",H25*VLOOKUP(G25,【参考】数式用!$A$4:$R$54,MATCH(Q25,【参考】数式用!$M$3:$R$3,0)+12,FALSE)) | O25: =VLOOKUP(G25,【参考】数式用!$A$4:$F$54,6,FALSE) -> #N/A | P25: ="（①＋②）/（"&J25&"）" -> （①＋②）/（） | Q25: ="③/（"&J25&"）" -> ③/（）
A26: =A25+1 -> 12 | B26: =IF(基本情報入力シート!C51="","",基本情報入力シート!C51) | C26: =IF(基本情報入力シート!M51="","",基本情報入力シート!M51) | D26: =IF(基本情報入力シート!R51="","",基本情報入力シート!R51) | E26: =IF(基本情報入力シート!W51="","",基本情報入力シート!W51) | F26: =IF(基本情報入力シート!X51="","",基本情報入力シート!X51) | G26: =IF(基本情報入力シート!Y51="","",基本情報入力シート!Y51) | K26: =IF(H26="","",H26*VLOOKUP(G26,【参考】数式用!$A$4:$R$54,MATCH(P26,【参考】数式用!$M$3:$R$3,0)+12,FALSE)) | L26: =IF(H26="","",H26*VLOOKUP(G26,【参考】数式用!$A$4:$R$54,MATCH(Q26,【参考】数式用!$M$3:$R$3,0)+12,FALSE)) | O26: =VLOOKUP(G26,【参考】数式用!$A$4:$F$54,6,FALSE) -> #N/A | P26: ="（①＋②）/（"&J26&"）" -> （①＋②）/（） | Q26: ="③/（"&J26&"）" -> ③/（）
A27: =A26+1 -> 13 | B27: =IF(基本情報入力シート!C52="","",基本情報入力シート!C52) | C27: =IF(基本情報入力シート!M52="","",基本情報入力シート!M52) | D27: =IF(基本情報入力シート!R52="","",基本情報入力シート!R52) | E27: =IF(基本情報入力シート!W52="","",基本情報入力シート!W52) | F27: =IF(基本情報入力シート!X52="","",基本情報入力シート!X52) | G27: =IF(基本情報入力シート!Y52="","",基本情報入力シート!Y52) | K27: =IF(H27="","",H27*VLOOKUP(G27,【参考】数式用!$A$4:$R$54,MATCH(P27,【参考】数式用!$M$3:$R$3,0)+12,FALSE)) | L27: =IF(H27="","",H27*VLOOKUP(G27,【参考】数式用!$A$4:$R$54,MATCH(Q27,【参考】数式用!$M$3:$R$3,0)+12,FALSE)) | O27: =VLOOKUP(G27,【参考】数式用!$A$4:$F$54,6,FALSE) -> #N/A | P27: ="（①＋②）/（"&J27&"）" -> （①＋②）/（） | Q27: ="③/（"&J27&"）" -> ③/（）
... A99: =A98+1 -> 85 | B99: =IF(基本情報入力シート!C124="","",基本情報入力シート!C124) | C99: =IF(基本情報入力シート!M124="","",基本情報入力シート!M124) | D99: =IF(基本情報入力シート!R124="","",基本情報入力シート!R124) | E99: =IF(基本情報入力シート!W124="","",基本情報入力シート!W124) | F99: =IF(基本情報入力シート!X124="","",基本情報入力シート!X124) | G99: =IF(基本情報入力シート!Y124="","",基本情報入力シート!Y124) | K99: =IF(H99="","",H99*VLOOKUP(G99,【参考】数式用!$A$4:$R$54,MATCH(P99,【参考】数式用!$M$3:$R$3,0)+12,FALSE)) | L99: =IF(H99="","",H99*VLOOKUP(G99,【参考】数式用!$A$4:$R$54,MATCH(Q99,【参考】数式用!$M$3:$R$3,0)+12,FALSE)) | O99: =VLOOKUP(G99,【参考】数式用!$A$4:$F$54,6,FALSE) -> #N/A | P99: ="（①＋②）/（"&J99&"）" -> （①＋②）/（） | Q99: ="③/（"&J99&"）" -> ③/（）
A100: =A99+1 -> 86 | B100: =IF(基本情報入力シート!C125="","",基本情報入力シート!C125) | C100: =IF(基本情報入力シート!M125="","",基本情報入力シート!M125) | E100: =IF(基本情報入力シート!W125="","",基本情報入力シート!W125) | F100: =IF(基本情報入力シート!X125="","",基本情報入力シート!X125) | G100: =IF(基本情報入力シート!Y125="","",基本情報入力シート!Y125) | K100: =IF(H100="","",H100*VLOOKUP(G100,【参考】数式用!$A$4:$R$54,MATCH(P100,【参考】数式用!$M$3:$R$3,0)+12,FALSE)) | L100: =IF(H100="","",H100*VLOOKUP(G100,【参考】数式用!$A$4:$R$54,MATCH(Q100,【参考】数式用!$M$3:$R$3,0)+12,FALSE)) | O100: =VLOOKUP(G100,【参考】数式用!$A$4:$F$54,6,FALSE) -> #N/A | P100: ="（①＋②）/（"&J100&"）" -> （①＋②）/（） | Q100: ="③/（"&J100&"）" -> ③/（）
A101: =A100+1 -> 87 | B101: =IF(基本情報入力シート!C126="","",基本情報入力シート!C126) | C101: =IF(基本情報入力シート!M126="","",基本情報入力シート!M126) | D101: =IF(基本情報入力シート!R126="","",基本情報入力シート!R126) | E101: =IF(基本情報入力シート!W126="","",基本情報入力シート!W126) | F101: =IF(基本情報入力シート!X126="","",基本情報入力シート!X126) | G101: =IF(基本情報入力シート!Y126="","",基本情報入力シート!Y126) | K101: =IF(H101="","",H101*VLOOKUP(G101,【参考】数式用!$A$4:$R$54,MATCH(P101,【参考】数式用!$M$3:$R$3,0)+12,FALSE)) | L101: =IF(H101="","",H101*VLOOKUP(G101,【参考】数式用!$A$4:$R$54,MATCH(Q101,【参考】数式用!$M$3:$R$3,0)+12,FALSE)) | O101: =VLOOKUP(G101,【参考】数式用!$A$4:$F$54,6,FALSE) -> #N/A | P101: ="（①＋②）/（"&J101&"）" -> （①＋②）/（） | Q101: ="③/（"&J101&"）" -> ③/（）
A102: =A101+1 -> 88 | B102: =IF(基本情報入力シート!C127="","",基本情報入力シート!C127) | C102: =IF(基本情報入力シート!M127="","",基本情報入力シート!M127) | D102: =IF(基本情報入力シート!R127="","",基本情報入力シート!R127) | E102: =IF(基本情報入力シート!W127="","",基本情報入力シート!W127) | F102: =IF(基本情報入力シート!X127="","",基本情報入力シート!X127) | G102: =IF(基本情報入力シート!Y127="","",基本情報入力シート!Y127) | K102: =IF(H102="","",H102*VLOOKUP(G102,【参考】数式用!$A$4:$R$54,MATCH(P102,【参考】数式用!$M$3:$R$3,0)+12,FALSE)) | L102: =IF(H102="","",H102*VLOOKUP(G102,【参考】数式用!$A$4:$R$54,MATCH(Q102,【参考】数式用!$M$3:$R$3,0)+12,FALSE)) | O102: =VLOOKUP(G102,【参考】数式用!$A$4:$F$54,6,FALSE) -> #N/A | P102: ="（①＋②）/（"&J102&"）" -> （①＋②）/（） | Q102: ="③/（"&J102&"）" -> ③/（）
A103: =A102+1 -> 89 | B103: =IF(基本情報入力シート!C128="","",基本情報入力シート!C128) | C103: =IF(基本情報入力シート!M128="","",基本情報入力シート!M128) | D103: =IF(基本情報入力シート!R128="","",基本情報入力シート!R128) | E103: =IF(基本情報入力シート!W128="","",基本情報入力シート!W128) | F103: =IF(基本情報入力シート!X128="","",基本情報入力シート!X128) | G103: =IF(基本情報入力シート!Y128="","",基本情報入力シート!Y128) | K103: =IF(H103="","",H103*VLOOKUP(G103,【参考】数式用!$A$4:$R$54,MATCH(P103,【参考】数式用!$M$3:$R$3,0)+12,FALSE)) | L103: =IF(H103="","",H103*VLOOKUP(G103,【参考】数式用!$A$4:$R$54,MATCH(Q103,【参考】数式用!$M$3:$R$3,0)+12,FALSE)) | O103: =VLOOKUP(G103,【参考】数式用!$A$4:$F$54,6,FALSE) -> #N/A | P103: ="（①＋②）/（"&J103&"）" -> （①＋②）/（） | Q103: ="③/（"&J103&"）" -> ③/（）
A104: =A103+1 -> 90 | B104: =IF(基本情報入力シート!C129="","",基本情報入力シート!C129) | C104: =IF(基本情報入力シート!M129="","",基本情報入力シート!M129) | D104: =IF(基本情報入力シート!R129="","",基本情報入力シート!R129) | E104: =IF(基本情報入力シート!W129="","",基本情報入力シート!W129) | F104: =IF(基本情報入力シート!X129="","",基本情報入力シート!X129) | G104: =IF(基本情報入力シート!Y129="","",基本情報入力シート!Y129) | K104: =IF(H104="","",H104*VLOOKUP(G104,【参考】数式用!$A$4:$R$54,MATCH(P104,【参考】数式用!$M$3:$R$3,0)+12,FALSE)) | L104: =IF(H104="","",H104*VLOOKUP(G104,【参考】数式用!$A$4:$R$54,MATCH(Q104,【参考】数式用!$M$3:$R$3,0)+12,FALSE)) | O104: =VLOOKUP(G104,【参考】数式用!$A$4:$F$54,6,FALSE) -> #N/A | P104: ="（①＋②）/（"&J104&"）" -> （①＋②）/（） | Q104: ="③/（"&J104&"）" -> ③/（）
A105: =A104+1 -> 91 | B105: =IF(基本情報入力シート!C130="","",基本情報入力シート!C130) | C105: =IF(基本情報入力シート!M130="","",基本情報入力シート!M130) | D105: =IF(基本情報入力シート!R130="","",基本情報入力シート!R130) | E105: =IF(基本情報入力シート!W130="","",基本情報入力シート!W130) | F105: =IF(基本情報入力シート!X130="","",基本情報入力シート!X130) | G105: =IF(基本情報入力シート!Y130="","",基本情報入力シート!Y130) | K105: =IF(H105="","",H105*VLOOKUP(G105,【参考】数式用!$A$4:$R$54,MATCH(P105,【参考】数式用!$M$3:$R$3,0)+12,FALSE)) | L105: =IF(H105="","",H105*VLOOKUP(G105,【参考】数式用!$A$4:$R$54,MATCH(Q105,【参考】数式用!$M$3:$R$3,0)+12,FALSE)) | O105: =VLOOKUP(G105,【参考】数式用!$A$4:$F$54,6,FALSE) -> #N/A | P105: ="（①＋②）/（"&J105&"）" -> （①＋②）/（） | Q105: ="③/（"&J105&"）" -> ③/（）
A106: =A105+1 -> 92 | B106: =IF(基本情報入力シート!C131="","",基本情報入力シート!C131) | C106: =IF(基本情報入力シート!M131="","",基本情報入力シート!M131) | D106: =IF(基本情報入力シート!R131="","",基本情報入力シート!R131) | E106: =IF(基本情報入力シート!W131="","",基本情報入力シート!W131) | F106: =IF(基本情報入力シート!X131="","",基本情報入力シート!X131) | G106: =IF(基本情報入力シート!Y131="","",基本情報入力シート!Y131) | K106: =IF(H106="","",H106*VLOOKUP(G106,【参考】数式用!$A$4:$R$54,MATCH(P106,【参考】数式用!$M$3:$R$3,0)+12,FALSE)) | L106: =IF(H106="","",H106*VLOOKUP(G106,【参考】数式用!$A$4:$R$54,MATCH(Q106,【参考】数式用!$M$3:$R$3,0)+12,FALSE)) | O106: =VLOOKUP(G106,【参考】数式用!$A$4:$F$54,6,FALSE) -> #N/A | P106: ="（①＋②）/（"&J106&"）" -> （①＋②）/（） | Q106: ="③/（"&J106&"）" -> ③/（）
A107: =A106+1 -> 93 | B107: =IF(基本情報入力シート!C132="","",基本情報入力シート!C132) | C107: =IF(基本情報入力シート!M132="","",基本情報入力シート!M132) | D107: =IF(基本情報入力シート!R132="","",基本情報入力シート!R132) | E107: =IF(基本情報入力シート!W132="","",基本情報入力シート!W132) | F107: =IF(基本情報入力シート!X132="","",基本情報入力シート!X132) | G107: =IF(基本情報入力シート!Y132="","",基本情報入力シート!Y132) | K107: =IF(H107="","",H107*VLOOKUP(G107,【参考】数式用!$A$4:$R$54,MATCH(P107,【参考】数式用!$M$3:$R$3,0)+12,FALSE)) | L107: =IF(H107="","",H107*VLOOKUP(G107,【参考】数式用!$A$4:$R$54,MATCH(Q107,【参考】数式用!$M$3:$R$3,0)+12,FALSE)) | O107: =VLOOKUP(G107,【参考】数式用!$A$4:$F$54,6,FALSE) -> #N/A | P107: ="（①＋②）/（"&J107&"）" -> （①＋②）/（） | Q107: ="③/（"&J107&"）" -> ③/（）
A108: =A107+1 -> 94 | B108: =IF(基本情報入力シート!C133="","",基本情報入力シート!C133) | C108: =IF(基本情報入力シート!M133="","",基本情報入力シート!M133) | D108: =IF(基本情報入力シート!R133="","",基本情報入力シート!R133) | E108: =IF(基本情報入力シート!W133="","",基本情報入力シート!W133) | F108: =IF(基本情報入力シート!X133="","",基本情報入力シート!X133) | G108: =IF(基本情報入力シート!Y133="","",基本情報入力シート!Y133) | K108: =IF(H108="","",H108*VLOOKUP(G108,【参考】数式用!$A$4:$R$54,MATCH(P108,【参考】数式用!$M$3:$R$3,0)+12,FALSE)) | L108: =IF(H108="","",H108*VLOOKUP(G108,【参考】数式用!$A$4:$R$54,MATCH(Q108,【参考】数式用!$M$3:$R$3,0)+12,FALSE)) | O108: =VLOOKUP(G108,【参考】数式用!$A$4:$F$54,6,FALSE) -> #N/A | P108: ="（①＋②）/（"&J108&"）" -> （①＋②）/（） | Q108: ="③/（"&J108&"）" -> ③/（）
A109: =A108+1 -> 95 | B109: =IF(基本情報入力シート!C134="","",基本情報入力シート!C134) | C109: =IF(基本情報入力シート!M134="","",基本情報入力シート!M134) | D109: =IF(基本情報入力シート!R134="","",基本情報入力シート!R134) | E109: =IF(基本情報入力シート!W134="","",基本情報入力シート!W134) | F109: =IF(基本情報入力シート!X134="","",基本情報入力シート!X134) | G109: =IF(基本情報入力シート!Y134="","",基本情報入力シート!Y134) | K109: =IF(H109="","",H109*VLOOKUP(G109,【参考】数式用!$A$4:$R$54,MATCH(P109,【参考】数式用!$M$3:$R$3,0)+12,FALSE)) | L109: =IF(H109="","",H109*VLOOKUP(G109,【参考】数式用!$A$4:$R$54,MATCH(Q109,【参考】数式用!$M$3:$R$3,0)+12,FALSE)) | O109: =VLOOKUP(G109,【参考】数式用!$A$4:$F$54,6,FALSE) -> #N/A | P109: ="（①＋②）/（"&J109&"）" -> （①＋②）/（） | Q109: ="③/（"&J109&"）" -> ③/（）
A110: =A109+1 -> 96 | B110: =IF(基本情報入力シート!C135="","",基本情報入力シート!C135) | C110: =IF(基本情報入力シート!M135="","",基本情報入力シート!M135) | D110: =IF(基本情報入力シート!R135="","",基本情報入力シート!R135) | E110: =IF(基本情報入力シート!W135="","",基本情報入力シート!W135) | F110: =IF(基本情報入力シート!X135="","",基本情報入力シート!X135) | G110: =IF(基本情報入力シート!Y135="","",基本情報入力シート!Y135) | K110: =IF(H110="","",H110*VLOOKUP(G110,【参考】数式用!$A$4:$R$54,MATCH(P110,【参考】数式用!$M$3:$R$3,0)+12,FALSE)) | L110: =IF(H110="","",H110*VLOOKUP(G110,【参考】数式用!$A$4:$R$54,MATCH(Q110,【参考】数式用!$M$3:$R$3,0)+12,FALSE)) | O110: =VLOOKUP(G110,【参考】数式用!$A$4:$F$54,6,FALSE) -> #N/A | P110: ="（①＋②）/（"&J110&"）" -> （①＋②）/（） | Q110: ="③/（"&J110&"）" -> ③/（）
A111: =A110+1 -> 97 | B111: =IF(基本情報入力シート!C136="","",基本情報入力シート!C136) | C111: =IF(基本情報入力シート!M136="","",基本情報入力シート!M136) | D111: =IF(基本情報入力シート!R136="","",基本情報入力シート!R136) | E111: =IF(基本情報入力シート!W136="","",基本情報入力シート!W136) | F111: =IF(基本情報入力シート!X136="","",基本情報入力シート!X136) | G111: =IF(基本情報入力シート!Y136="","",基本情報入力シート!Y136) | K111: =IF(H111="","",H111*VLOOKUP(G111,【参考】数式用!$A$4:$R$54,MATCH(P111,【参考】数式用!$M$3:$R$3,0)+12,FALSE)) | L111: =IF(H111="","",H111*VLOOKUP(G111,【参考】数式用!$A$4:$R$54,MATCH(Q111,【参考】数式用!$M$3:$R$3,0)+12,FALSE)) | O111: =VLOOKUP(G111,【参考】数式用!$A$4:$F$54,6,FALSE) -> #N/A | P111: ="（①＋②）/（"&J111&"）" -> （①＋②）/（） | Q111: ="③/（"&J111&"）" -> ③/（）
A112: =A111+1 -> 98 | B112: =IF(基本情報入力シート!C137="","",基本情報入力シート!C137) | C112: =IF(基本情報入力シート!M137="","",基本情報入力シート!M137) | D112: =IF(基本情報入力シート!R137="","",基本情報入力シート!R137) | E112: =IF(基本情報入力シート!W137="","",基本情報入力シート!W137) | F112: =IF(基本情報入力シート!X137="","",基本情報入力シート!X137) | G112: =IF(基本情報入力シート!Y137="","",基本情報入力シート!Y137) | K112: =IF(H112="","",H112*VLOOKUP(G112,【参考】数式用!$A$4:$R$54,MATCH(P112,【参考】数式用!$M$3:$R$3,0)+12,FALSE)) | L112: =IF(H112="","",H112*VLOOKUP(G112,【参考】数式用!$A$4:$R$54,MATCH(Q112,【参考】数式用!$M$3:$R$3,0)+12,FALSE)) | O112: =VLOOKUP(G112,【参考】数式用!$A$4:$F$54,6,FALSE) -> #N/A | P112: ="（①＋②）/（"&J112&"）" -> （①＋②）/（） | Q112: ="③/（"&J112&"）" -> ③/（）
... A114: =A113+1 -> 100 | B114: =IF(基本情報入力シート!C139="","",基本情報入力シート!C139) | C114: =IF(基本情報入力シート!M139="","",基本情報入力シート!M139) | D114: =IF(基本情報入力シート!R139="","",基本情報入力シート!R139) | E114: =IF(基本情報入力シート!W139="","",基本情報入力シート!W139) | F114: =IF(基本情報入力シート!X139="","",基本情報入力シート!X139) | G114: =IF(基本情報入力シート!Y139="","",基本情報入力シート!Y139) | K114: =IF(H114="","",H114*VLOOKUP(G114,【参考】数式用!$A$4:$R$54,MATCH(P114,【参考】数式用!$M$3:$R$3,0)+12,FALSE)) | L114: =IF(H114="","",H114*VLOOKUP(G114,【参考】数式用!$A$4:$R$54,MATCH(Q114,【参考】数式用!$M$3:$R$3,0)+12,FALSE)) | O114: =VLOOKUP(G114,【参考】数式用!$A$4:$F$54,6,FALSE) -> #N/A | P114: ="（①＋②）/（"&J114&"）" -> （①＋②）/（） | Q114: ="③/（"&J114&"）" -> ③/（）

Sheet 【参考】数式用
A1: 表１ 交付率一覧 | U1: 表２ 提出先一覧 | W1: 表３ 事業所の所在地 | Z1: 表４ 職場環境等要件 | AB1: 参考
A2: サービス区分 | B2: コード値 | C2: 交付率 | G2: 交付率組み合わせ | M2: 割合 | S2: 処遇改善加算 | U2: 都道府県 | W2: 都道府県 | X2: 市区町村 | Z2: 「その他」での使用に関係する職場環境等要件の項目 | AB2: チェックボックス
C3: ① | D3: ② | E3: ③ | G3: 組み合わせ | J3: ① | K3: ①＋③ | L3: ①＋②＋③ | M3: （①＋②）/（①＋②＋③） | N3: ③/（①＋②＋③） | O3: （①＋②）/（①＋③） | P3: ③/（①＋③） | Q3: （①＋②）/（①） | R3: ③/（①） | U3: 北海道 | W3: 北海道 | X3: 札幌市 | Z3: ① 業務内容の明確化と職員間の適切な役割分担の取組 | AB3: ✓
A4: 訪問介護 | B4: 11 | C4: 0.156 | D4: 0.06 | E4: 0.048 | F4: 訪問介護_組合せ | G4: ① | H4: ①＋③ | I4: ①＋②＋③ | J4: =C4 -> 0.156 | K4: =SUM(C4,E4) -> 0.204 | L4: =SUM(C4:E4) -> 0.264 | M4: =SUM(C4:D4)/L4 -> 0.81818182 | N4: =E4/L4 -> 0.18181818 | O4: =C4/K4 -> 0.76470588 | P4: =E4/K4 -> 0.23529412 | Q4: =C4/C4 -> 1 | R4: 0 | S4: 加算対象 | U4: 青森県 | W4: 北海道 | X4: 函館市 | Z4: ② 介護職員等の業務の洗い出しや棚卸しなど、現場の課題の見える化
A5: 夜間対応型訪問介護 | B5: 71 | C5: 0.132 | D5: 0.042 | E5: 0.03 | F5: 夜間対応型訪問介護_組合せ | G5: ① | H5: ①＋③ | I5: ①＋②＋③ | J5: =C5 -> 0.132 | K5: =SUM(C5,E5) -> 0.162 | L5: =SUM(C5:E5) -> 0.204 | M5: =SUM(C5:D5)/L5 -> 0.85294118 | N5: =E5/L5 -> 0.14705882 | O5: =C5/K5 -> 0.81481481 | P5: =E5/K5 -> 0.18518519 | Q5: =C5/C5 -> 1 | R5: 0 | S5: 加算対象 | U5: 岩手県 | W5: 北海道 | X5: 小樽市 | Z5: ③ 業務改善活動の体制構築
A6: 定期巡回･随時対応型訪問介護看護 | B6: 76 | C6: 0.132 | D6: 0.042 | E6: 0.03 | F6: 定期巡回･随時対応型訪問介護看護_組合せ | G6: ① | H6: ①＋③ | I6: ①＋②＋③ | J6: =C6 -> 0.132 | K6: =SUM(C6,E6) -> 0.162 | L6: =SUM(C6:E6) -> 0.204 | M6: =SUM(C6:D6)/L6 -> 0.85294118 | N6: =E6/L6 -> 0.14705882 | O6: =C6/K6 -> 0.81481481 | P6: =E6/K6 -> 0.18518519 | Q6: =C6/C6 -> 1 | R6: 0 | S6: 加算対象 | U6: 宮城県 | W6: 北海道 | X6: 旭川市
A7: 訪問入浴介護 | B7: 12 | C7: 0.132 | D7: 0.042 | E7: 0.03 | F7: 訪問入浴介護_組合せ | G7: ① | H7: ①＋③ | I7: ①＋②＋③ | J7: =C7 -> 0.132 | K7: =SUM(C7,E7) -> 0.162 | L7: =SUM(C7:E7) -> 0.204 | M7: =SUM(C7:D7)/L7 -> 0.85294118 | N7: =E7/L7 -> 0.14705882 | O7: =C7/K7 -> 0.81481481 | P7: =E7/K7 -> 0.18518519 | Q7: =C7/C7 -> 1 | R7: 0 | S7: 加算対象 | U7: 秋田県 | W7: 北海道 | X7: 室蘭市
A8: 介護予防訪問入浴介護 | B8: 62 | C8: 0.132 | D8: 0.042 | E8: 0.03 | F8: 介護予防訪問入浴介護_組合せ | G8: ① | H8: ①＋③ | I8: ①＋②＋③ | J8: =C8 -> 0.132 | K8: =SUM(C8,E8) -> 0.162 | L8: =SUM(C8:E8) -> 0.204 | M8: =SUM(C8:D8)/L8 -> 0.85294118 | N8: =E8/L8 -> 0.14705882 | O8: =C8/K8 -> 0.81481481 | P8: =E8/K8 -> 0.18518519 | Q8: =C8/C8 -> 1 | R8: 0 | S8: 加算対象 | U8: 山形県 | W8: 北海道 | X8: 釧路市
A9: 通所介護 | B9: 15 | C9: 0.126 | D9: 0.036 | E9: 0.03 | F9: 通所介護_組合せ | G9: ① | H9: ①＋③ | I9: ①＋②＋③ | J9: =C9 -> 0.126 | K9: =SUM(C9,E9) -> 0.156 | L9: =SUM(C9:E9) -> 0.192 | M9: =SUM(C9:D9)/L9 -> 0.84375 | N9: =E9/L9 -> 0.15625 | O9: =C9/K9 -> 0.80769231 | P9: =E9/K9 -> 0.19230769 | Q9: =C9/C9 -> 1 | R9: 0 | S9: 加算対象 | U9: 福島県 | W9: 北海道 | X9: 帯広市
A10: 地域密着型通所介護 | B10: 78 | C10: 0.168 | D10: 0.042 | E10: 0.036 | F10: 地域密着型通所介護_組合せ | G10: ① | H10: ①＋③ | I10: ①＋②＋③ | J10: =C10 -> 0.168 | K10: =SUM(C10,E10) -> 0.204 | L10: =SUM(C10:E10) -> 0.246 | M10: =SUM(C10:D10)/L10 -> 0.85365854 | N10: =E10/L10 -> 0.14634146 | O10: =C10/K10 -> 0.82352941 | P10: =E10/K10 -> 0.17647059 | Q10: =C10/C10 -> 1 | R10: 0 | S10: 加算対象 | U10: 茨城県 | W10: 北海道 | X10: 北見市
A11: 通所リハビリテーション | B11: 16 | C11: 0.114 | D11: 0.03 | E11: 0.024 | F11: 通所リハビリテーション_組合せ | G11: ① | H11: ①＋③ | I11: ①＋②＋③ | J11: =C11 -> 0.114 | K11: =SUM(C11,E11) -> 0.138 | L11: =SUM(C11:E11) -> 0.168 | M11: =SUM(C11:D11)/L11 -> 0.85714286 | N11: =E11/L11 -> 0.14285714 | O11: =C11/K11 -> 0.82608696 | P11: =E11/K11 -> 0.17391304 | Q11: =C11/C11 -> 1 | R11: 0 | S11: 加算対象 | U11: 栃木県 | W11: 北海道 | X11: 夕張市
A12: 介護予防通所リハビリテーション | B12: 66 | C12: 0.114 | D12: 0.03 | E12: 0.024 | F12: 介護予防通所リハビリテーション_組合せ | G12: ① | H12: ①＋③ | I12: ①＋②＋③ | J12: =C12 -> 0.114 | K12: =SUM(C12,E12) -> 0.138 | L12: =SUM(C12:E12) -> 0.168 | M12: =SUM(C12:D12)/L12 -> 0.85714286 | N12: =E12/L12 -> 0.14285714 | O12: =C12/K12 -> 0.82608696 | P12: =E12/K12 -> 0.17391304 | Q12: =C12/C12 -> 1 | R12: 0 | S12: 加算対象 | U12: 群馬県 | W12: 北海道 | X12: 岩見沢市
A13: 特定施設入居者生活介護 | B13: 33 | C13: 0.132 | D13: 0.042 | E13: 0.036 | F13: 特定施設入居者生活介護_組合せ | G13: ① | H13: ①＋③ | I13: ①＋②＋③ | J13: =C13 -> 0.132 | K13: =SUM(C13,E13) -> 0.168 | L13: =SUM(C13:E13) -> 0.21 | M13: =SUM(C13:D13)/L13 -> 0.82857143 | N13: =E13/L13 -> 0.17142857 | O13: =C13/K13 -> 0.78571429 | P13: =E13/K13 -> 0.21428571 | Q13: =C13/C13 -> 1 | R13: 0 | S13: 加算対象 | U13: 埼玉県 | W13: 北海道 | X13: 網走市
A14: 特定施設入居者生活介護（短期利用型） | B14: 27 | C14: 0.132 | D14: 0.042 | E14: 0.036 | F14: 特定施設入居者生活介護_短期利用型_組合せ | G14: ① | H14: ①＋③ | I14: ①＋②＋③ | J14: =C14 -> 0.132 | K14: =SUM(C14,E14) -> 0.168 | L14: =SUM(C14:E14) -> 0.21 | M14: =SUM(C14:D14)/L14 -> 0.82857143 | N14: =E14/L14 -> 0.17142857 | O14: =C14/K14 -> 0.78571429 | P14: =E14/K14 -> 0.21428571 | Q14: =C14/C14 -> 1 | R14: 0 | S14: 加算対象 | U14: 千葉県 | W14: 北海道 | X14: 留萌市
A15: 介護予防特定施設入居者生活介護 | B15: 35 | C15: 0.132 | D15: 0.042 | E15: 0.036 | F15: 介護予防特定施設入居者生活介護_組合せ | G15: ① | H15: ①＋③ | I15: ①＋②＋③ | J15: =C15 -> 0.132 | K15: =SUM(C15,E15) -> 0.168 | L15: =SUM(C15:E15) -> 0.21 | M15: =SUM(C15:D15)/L15 -> 0.82857143 | N15: =E15/L15 -> 0.17142857 | O15: =C15/K15 -> 0.78571429 | P15: =E15/K15 -> 0.21428571 | Q15: =C15/C15 -> 1 | R15: 0 | S15: 加算対象 | U15: 東京都 | W15: 北海道 | X15: 苫小牧市
A16: 地域密着型特定施設入居者生活介護 | B16: 36 | C16: 0.132 | D16: 0.042 | E16: 0.036 | F16: 地域密着型特定施設入居者生活介護_組合せ | G16: ① | H16: ①＋③ | I16: ①＋②＋③ | J16: =C16 -> 0.132 | K16: =SUM(C16,E16) -> 0.168 | L16: =SUM(C16:E16) -> 0.21 | M16: =SUM(C16:D16)/L16 -> 0.82857143 | N16: =E16/L16 -> 0.17142857 | O16: =C16/K16 -> 0.78571429 | P16: =E16/K16 -> 0.21428571 | Q16: =C16/C16 -> 1 | R16: 0 | S16: 加算対象 | U16: 神奈川県 | W16: 北海道 | X16: 稚内市
A17: 地域密着型特定施設入居者生活介護（短期利用型） | B17: 28 | C17: 0.132 | D17: 0.042 | E17: 0.036 | F17: 地域密着型特定施設入居者生活介護_短期利用型_組合せ | G17: ① | H17: ①＋③ | I17: ①＋②＋③ | J17: =C17 -> 0.132 | K17: =SUM(C17,E17) -> 0.168 | L17: =SUM(C17:E17) -> 0.21 | M17: =SUM(C17:D17)/L17 -> 0.82857143 | N17: =E17/L17 -> 0.17142857 | O17: =C17/K17 -> 0.78571429 | P17: =E17/K17 -> 0.21428571 | Q17: =C17/C17 -> 1 | R17: 0 | S17: 加算対象 | U17: 新潟県 | W17: 北海道 | X17: 美唄市
... A47: 通所型サービス（独自／定額） | B47: A8 | C47: 0.126 | D47: 0.036 | E47: 0.03 | F47: 通所型サービス_独自_定額_組合せ | G47: ① | H47: ①＋③ | I47: ①＋②＋③ | J47: =C47 -> 0.126 | K47: =SUM(C47,E47) -> 0.156 | L47: =SUM(C47:E47) -> 0.192 | M47: =SUM(C47:D47)/L47 -> 0.84375 | N47: =E47/L47 -> 0.15625 | O47: =C47/K47 -> 0.80769231 | P47: =E47/K47 -> 0.19230769 | Q47: =C47/C47 -> 1 | R47: 0 | S47: 加算対象 | U47: 宮崎県 | W47: 北海道 | X47: 八雲町
A48: 介護予防ケアマネジメント | B48: AF | C48: 0.15 | D48: 0 | E48: 0 | F48: 介護予防ケアマネジメント_組合せ | G48: ① | J48: =C48 -> 0.15 | K48: =SUM(C48,E48) -> 0.15 | L48: =SUM(C48:E48) -> 0.15 | M48: =SUM(C48:D48)/L48 -> 1 | N48: =E48/L48 -> 0 | O48: =C48/K48 -> 1 | P48: =E48/K48 -> 0 | Q48: =C48/C48 -> 1 | R48: 0 | S48: 加算対象外 | U48: 鹿児島県 | W48: 北海道 | X48: 長万部町
A49: 訪問看護 | B49: 13 | C49: 0.132 | D49: 0 | E49: 0 | F49: 訪問看護組合せ | G49: ① | J49: =C49 -> 0.132 | K49: =SUM(C49,E49) -> 0.132 | L49: =SUM(C49:E49) -> 0.132 | M49: =SUM(C49:D49)/L49 -> 1 | N49: =E49/L49 -> 0 | O49: =C49/K49 -> 1 | P49: =E49/K49 -> 0 | Q49: =C49/C49 -> 1 | R49: 0 | S49: 加算対象外 | U49: 沖縄県 | W49: 北海道 | X49: 江差町
A50: 介護予防訪問看護 | B50: 63 | C50: 0.132 | D50: 0 | E50: 0 | F50: 介護予防訪問看護_組合せ | G50: ① | J50: =C50 -> 0.132 | K50: =SUM(C50,E50) -> 0.132 | L50: =SUM(C50:E50) -> 0.132 | M50: =SUM(C50:D50)/L50 -> 1 | N50: =E50/L50 -> 0 | O50: =C50/K50 -> 1 | P50: =E50/K50 -> 0 | Q50: =C50/C50 -> 1 | R50: 0 | S50: 加算対象外 | W50: 北海道 | X50: 上ノ国町
A51: 訪問リハビリテーション | B51: 14 | C51: 0.108 | D51: 0 | E51: 0 | F51: 訪問リハビリテーション組合せ | G51: ① | J51: =C51 -> 0.108 | K51: =SUM(C51,E51) -> 0.108 | L51: =SUM(C51:E51) -> 0.108 | M51: =SUM(C51:D51)/L51 -> 1 | N51: =E51/L51 -> 0 | O51: =C51/K51 -> 1 | P51: =E51/K51 -> 0 | Q51: =C51/C51 -> 1 | R51: 0 | S51: 加算対象外 | W51: 北海道 | X51: 厚沢部町
A52: 介護予防訪問リハビリテーション | B52: 64 | C52: 0.108 | D52: 0 | E52: 0 | F52: 介護予防訪問リハビリテーション_組合せ | G52: ① | J52: =C52 -> 0.108 | K52: =SUM(C52,E52) -> 0.108 | L52: =SUM(C52:E52) -> 0.108 | M52: =SUM(C52:D52)/L52 -> 1 | N52: =E52/L52 -> 0 | O52: =C52/K52 -> 1 | P52: =E52/K52 -> 0 | Q52: =C52/C52 -> 1 | R52: 0 | S52: 加算対象外 | W52: 北海道 | X52: 乙部町
A53: 居宅介護支援 | B53: 43 | C53: 0.15 | D53: 0 | E53: 0 | F53: 居宅介護支援_組合せ | G53: ① | J53: =C53 -> 0.15 | K53: =SUM(C53,E53) -> 0.15 | L53: =SUM(C53:E53) -> 0.15 | M53: =SUM(C53:D53)/L53 -> 1 | N53: =E53/L53 -> 0 | O53: =C53/K53 -> 1 | P53: =E53/K53 -> 0 | Q53: =C53/C53 -> 1 | R53: 0 | S53: 加算対象外 | W53: 北海道 | X53: 奥尻町
A54: 介護予防支援 | B54: 46 | C54: 0.15 | D54: 0 | E54: 0 | F54: 介護予防支援_組合せ | G54: ① | J54: =C54 -> 0.15 | K54: =SUM(C54,E54) -> 0.15 | L54: =SUM(C54:E54) -> 0.15 | M54: =SUM(C54:D54)/L54 -> 1 | N54: =E54/L54 -> 0 | O54: =C54/K54 -> 1 | P54: =E54/K54 -> 0 | Q54: =C54/C54 -> 1 | R54: 0 | S54: 加算対象外 | W54: 北海道 | X54: 今金町
W55: 北海道 | X55: せたな町
W56: 北海道 | X56: 島牧村
W57: 北海道 | X57: 寿都町
W58: 北海道 | X58: 黒松内町
W59: 北海道 | X59: 蘭越町
W60: 北海道 | X60: ニセコ町
W61: 北海道 | X61: 真狩村
W62: 北海道 | X62: 留寿都村
W63: 北海道 | X63: 喜茂別町
W64: 北海道 | X64: 京極町
W65: 北海道 | X65: 倶知安町
W66: 北海道 | X66: 共和町
... W1749: 沖縄県 | X1749: 与那国町
